BEGIN:VCALENDAR
VERSION:2.0
PRODID:-//Volt Europa//Events//EN
CALSCALE:GREGORIAN
METHOD:PUBLISH
BEGIN:VEVENT
UID:huiskamerbijeenkomst-1761935400@voltnederland.org
DTSTAMP:20260423T102102Z
DTSTART;TZID=Europe/Amsterdam:20251031T193000
DTEND;TZID=Europe/Amsterdam:20251031T213000
SUMMARY:Huiskamerbijeenkomst
DESCRIPTION:Na weken campagne voeren\, debatten bekijken en interviews belu
 isteren is het tijd voor een gezellige en ontspannen avond! We komen samen 
 om even los te komen van de hectiek en te praten over de  nieuwe politieke 
 realiteit\, onze behaalde resultaten  en wat we daarvan verwachten. Of je n
 u voor het eerst een keertje aanschuift of al langer actief lid bent\, iede
 reen is van harte welkom! Meld je aan via  flevoland@voltnederland.org   (d
 an sturen we je ook het adres).
LOCATION:Almere Buiten
URL:https://voltnederland.org/flevoland/agenda/huiskamerbijeenkomst
END:VEVENT
END:VCALENDAR
