BEGIN:VCALENDAR
VERSION:2.0
PRODID:-//Volt Europa//Events//EN
CALSCALE:GREGORIAN
METHOD:PUBLISH
BEGIN:VEVENT
UID:flevoland-basisinkomen-utopie-of-noodzaak-1758562200@voltnederland.org
DTSTAMP:20260423T114306Z
DTSTART;TZID=Europe/Amsterdam:20250922T193000
DTEND;TZID=Europe/Amsterdam:20250922T213000
SUMMARY:Flevoland: Basisinkomen\, utopie of noodzaak?
DESCRIPTION:Is een basisinkomen een utopie of juist een oplossing voor een 
 eerlijker Nederland? Op maandag 22 september organiseert Volt Flevoland een
  inspirerende publieke discussie-avond in Restaurant Moellies in Dronten. T
 ijdens de bijeenkomst gaan experts en bezoekers in gesprek over de kansen\,
  uitdagingen en de toegevoegde waarde van een basisinkomen. Een actueel the
 ma Het basisinkomen staat in het verkiezingsprogramma van Volt als prominen
 t onderdeel van een nieuw sociaal-fiscaal stelsel. Een basisink
LOCATION:Het Havenplein 2\, Dronten
URL:https://voltnederland.org/flevoland/agenda/flevoland-basisinkomen-utopi
 e-of-noodzaak
END:VEVENT
END:VCALENDAR
