BEGIN:VCALENDAR
VERSION:2.0
PRODID:-//Volt Europa//Events//EN
CALSCALE:GREGORIAN
METHOD:PUBLISH
BEGIN:VEVENT
UID:helmond-maandelijkse-borrel-1-1700679600@voltnederland.org
DTSTAMP:20260423T102102Z
DTSTART;TZID=Europe/Amsterdam:20231122T200000
DTEND;TZID=Europe/Amsterdam:20231122T213000
SUMMARY:Helmond - Maandelijkse borrel (Duplicated)
DESCRIPTION:De maandelijkse borrel van Volt Helmond. Ontmoet mede-Volters\,
  ga in gesprek over actualiteiten en klets gezellig met elkaar! We nodigen 
 nieuwe leden en geïnteresseerden ook van harte uit om naar de borrel te ko
 men! Vragen rondom toegankelijkheid kunnen gesteld worden via luc.verhoeven
 @volteuropa.org
LOCATION:Stadsbrouwerij de Deftige Aap\, Markt 14\, 5701 RK Helmond
URL:https://voltnederland.org/agenda/helmond-maandelijkse-borrel-1
END:VEVENT
END:VCALENDAR
