BEGIN:VCALENDAR
VERSION:2.0
PRODID:-//Volt Europa//Events//EN
CALSCALE:GREGORIAN
METHOD:PUBLISH
BEGIN:VEVENT
UID:eindhoven-glow-campagne-weekend-1-1697054400@voltnederland.org
DTSTAMP:20260423T102051Z
DTSTART;TZID=Europe/Amsterdam:20231011T220000
DTEND;TZID=Europe/Amsterdam:20231112T170000
SUMMARY:Eindhoven - Glow campagne weekend
DESCRIPTION:- English below – 11 en 12 november is het grote Volt campagn
 e weekend in en rond Eindhoven. Van de ochtend tot in de middag staan we me
 t een tiental stands op verschillende plekken. Eind van de middag lopen we 
 onze beroemde Volt Plakatschlange\, met muziek\, Plakaten (affiches) en spe
 eches van Volt kandidaten. Na het eten lopen we ’s avonds voor de liefheb
 bers in kleine groepen de Glow route\, het jaarlijkse lichtspektakel in Ein
 dhoven. Laten we Glow vooral paars maken! Voor Volters uit het buiten
LOCATION:Diverse plaatsen in Eindhoven
URL:https://voltnederland.org/en/events/eindhoven-glow-campagne-weekend-1
END:VEVENT
END:VCALENDAR
