BEGIN:VCALENDAR
VERSION:2.0
PRODID:-//Volt Europa//Events//EN
CALSCALE:GREGORIAN
METHOD:PUBLISH
BEGIN:VEVENT
UID:vqoue-june-1750957200@voltnederland.org
DTSTAMP:20260423T142433Z
DTSTART;TZID=Europe/Amsterdam:20250626T190000
DTEND;TZID=Europe/Amsterdam:20250626T230000
SUMMARY:Algemene Ledenvergadering (ALV) / General Assembly (GA) + talking a
 bout Volt Europe
DESCRIPTION:On June 26\, Volt Amsterdam organizes the Algemene Ledenvergade
 ring (ALV in Dutch) or General Assembly (GA) and a presentation about Volt 
 Europe! The walk-in is from 19.00\, at 19.15 we start the program. Will you
  be there? Program - election of the party leader for the municipal electio
 ns (GRV) of March 2026 - election of new board member policy of Volt Amster
 dam - short presentation and conversation about Volt Europe\, with co-presi
 dent of Volt Europe  Mels Klabbers - chat with a drink at the bar
LOCATION:Café Belcampo\, Hannie Dankbaarpassage 10 (in Tramremise de Halle
 n)
URL:https://voltnederland.org/en/amsterdam/events/vqoue-june
END:VEVENT
END:VCALENDAR
