BEGIN:VCALENDAR
VERSION:2.0
PRODID:-//Volt Europa//Events//EN
CALSCALE:GREGORIAN
METHOD:PUBLISH
BEGIN:VEVENT
UID:voque-march-1741890600@voltnederland.org
DTSTAMP:20260423T101947Z
DTSTART;TZID=Europe/Amsterdam:20250313T193000
DTEND;TZID=Europe/Amsterdam:20250313T230000
SUMMARY:VOQUE | March
DESCRIPTION:We will discuss current events and other (world) news and look 
 ahead to progressive developments in Amsterdam\, North Holland and The Hagu
 e. We will do this together with city councilor Juliet Broersen\, provincia
 l representative Julia Schneemann and – if we’re lucky – Laurens Dass
 en! Doors open at 19:00\, the program begins at 19:30 Join! Please fill in 
  this form  if you will be there? We'll keep a spot reserved for you!
LOCATION:Café Belcampo\, Hannie Dankbaarpassage 10 (in Tramremise de Halle
 n)
URL:https://voltnederland.org/en/amsterdam/events/voque-march
END:VEVENT
END:VCALENDAR
