BEGIN:VCALENDAR
VERSION:2.0
PRODID:-//Volt Europa//Events//EN
CALSCALE:GREGORIAN
METHOD:PUBLISH
BEGIN:VEVENT
UID:voque-december-1734026400@voltnederland.org
DTSTAMP:20260423T101947Z
DTSTART;TZID=Europe/Amsterdam:20241212T190000
DTEND;TZID=Europe/Amsterdam:20241212T230000
SUMMARY:VOQUE | Volt Quarterly Event
DESCRIPTION:Volt Amsterdam organizes a quarterly event where you get to kno
 w Volt and your fellow Volters (even) better. In the fall of 2024\, it will
  be time for the Volt Quarterly Event (VOQUE) again on December 12. This ti
 me the theme of the meeting is 'poverty (reduction)'. We will discuss this 
 with experts and with each other. VOQUE is not only the event where new or 
 aspiring members can get to know the party\, but is also intended for membe
 rs who have been members for some time and who are curious about
LOCATION:Café Belcampo\, Hannie Dankbaarpassage 10\, 1053 RT Amsterdam
URL:https://voltnederland.org/en/amsterdam/events/voque-december
END:VEVENT
END:VCALENDAR
