BEGIN:VCALENDAR
VERSION:2.0
PRODID:-//Volt Europa//Events//EN
CALSCALE:GREGORIAN
METHOD:PUBLISH
BEGIN:VEVENT
UID:volt-quarterly-event-maandelijkse-borrel-april-monthly-get-together-apr
 il-1713373200@voltnederland.org
DTSTAMP:20260423T132442Z
DTSTART;TZID=Europe/Amsterdam:20240417T190000
DTEND;TZID=Europe/Amsterdam:20240417T230000
SUMMARY:Volt Quarterly Event + Monthly Get Together April
DESCRIPTION:Volt Amsterdam organizes a quarterly event where you get to kno
 w Volt and your fellow Volters (even) better. In the spring of 2024\, it's 
 time for the Volt Quarterly Event (VOQUE) again on April 17! VOQUE is not o
 nly the event where new or aspiring members can get to know the party\, but
  is also intended for members who have been members for some time and who a
 re curious about the latest developments or want to provide input on Volt's
  policy plans. Will you fill out  this form  when you are there?
LOCATION:Huis van de Wijk de Meeuw (Motorwal 300)
URL:https://voltnederland.org/en/amsterdam/events/volt-quarterly-event-maan
 delijkse-borrel-april-monthly-get-together-april
END:VEVENT
END:VCALENDAR
