BEGIN:VCALENDAR
VERSION:2.0
PRODID:-//Volt Europa//Events//EN
CALSCALE:GREGORIAN
METHOD:PUBLISH
BEGIN:VEVENT
UID:volt-op-the-water-23may-1716476400@voltnederland.org
DTSTAMP:20260423T102133Z
DTSTART;TZID=Europe/Amsterdam:20240523T170000
DTEND;TZID=Europe/Amsterdam:20240523T210000
SUMMARY:Volt on the water (Campaign event)
DESCRIPTION:More info follows a.s.a.p.
LOCATION:Canals of Amsterdam
URL:https://voltnederland.org/en/amsterdam/events/volt-op-the-water-23may
END:VEVENT
END:VCALENDAR
