BEGIN:VCALENDAR
VERSION:2.0
PRODID:-//Volt Europa//Events//EN
CALSCALE:GREGORIAN
METHOD:PUBLISH
BEGIN:VEVENT
UID:volt-op-de-bank-20may-1716199200@voltnederland.org
DTSTAMP:20260423T144236Z
DTSTART;TZID=Europe/Amsterdam:20240520T120000
DTEND;TZID=Europe/Amsterdam:20240520T160000
SUMMARY:Volt on the couch (Campaign event)
DESCRIPTION:Each week\, a purple bench will be placed in a prominent spot i
 n Amsterdam where our candidates will engage with voters.
LOCATION:Centrum\, Amsterdam
URL:https://voltnederland.org/en/amsterdam/events/volt-op-de-bank-20may
END:VEVENT
END:VCALENDAR
