BEGIN:VCALENDAR
VERSION:2.0
PRODID:-//Volt Europa//Events//EN
CALSCALE:GREGORIAN
METHOD:PUBLISH
BEGIN:VEVENT
UID:tour-in-the-city-hall-nl-27may-1748359800@voltnederland.org
DTSTAMP:20260423T114410Z
DTSTART;TZID=Europe/Amsterdam:20250527T173000
DTEND;TZID=Europe/Amsterdam:20250527T200000
SUMMARY:Tour in the City Hall (NL & EN)
DESCRIPTION:On  27 May \, Volt Amsterdam is organising a tour in our City H
 all. During this tour\, you will get an exclusive insight into Amsterdam po
 litics. Members of the faction will tell about what is involved in their wo
 rk and what a working day can look like. And of course\, there will be time
  for questions!  There will be two tours in Dutch and English. Register her
 e:  https://forms.gle/Kb9Yz6VzovpaGaFw8 Questions Want to discuss something
  or have a question? Contact Volt Amsterdam's Community Team:  co
LOCATION:Amstel 1\, receptie Stadhuis
URL:https://voltnederland.org/en/amsterdam/events/tour-in-the-city-hall-nl-
 27may
END:VEVENT
END:VCALENDAR
