BEGIN:VCALENDAR
VERSION:2.0
PRODID:-//Volt Europa//Events//EN
CALSCALE:GREGORIAN
METHOD:PUBLISH
BEGIN:VEVENT
UID:the-red-line-1759658400@voltnederland.org
DTSTAMP:20260423T101945Z
DTSTART;TZID=Europe/Amsterdam:20251005T120000
DTEND;TZID=Europe/Amsterdam:20251005T120000
SUMMARY:The Red Line
DESCRIPTION:On Sunday\, October 5\, we will once again massively draw the R
 ed Line. After two Red Line demonstrations in The Hague\, it is now the tur
 n of our capital Amsterdam. We will gather from 12:30 at the Rijksmuseum on
  the Museumplein side on the left in Amsterdam\, come along and bring your 
 friends! While the vast majority of the Netherlands wants our government to
  take concrete sanctions to stop the genocide and end the occupation of Pal
 estine\, nothing is happening in political The Hague. A fundamental
LOCATION:Amsterdam
URL:https://voltnederland.org/en/amsterdam/events/the-red-line
END:VEVENT
END:VCALENDAR
