BEGIN:VCALENDAR
VERSION:2.0
PRODID:-//Volt Europa//Events//EN
CALSCALE:GREGORIAN
METHOD:PUBLISH
BEGIN:VEVENT
UID:pride-march-pride-park-1753520400@voltnederland.org
DTSTAMP:20260423T102046Z
DTSTART;TZID=Europe/Amsterdam:20250726T110000
DTEND;TZID=Europe/Amsterdam:20250726T140000
SUMMARY:Pride March + Pride Park
DESCRIPTION:Join the Pride March!  Celebrate the start of Pride Amsterdam w
 ith Volt with the Pride March. We will gather at the Amstelveld at 11:00h a
 nd leave around 12:00h. We will walk via the Van Woustraat\, Reguliersdwars
 straat\, Vijzelgracht\, Weteringschans and Leidseplein to the Vondelpark. W
 e will be there around 14:00. Then join us for the various activities in th
 e Vondelpark\, renamed Pride Park for the occasion.  Put on your purple Vol
 t shirt\, bring your rainbow flag and above all be yourself! On Jul
LOCATION:Amstelveld
URL:https://voltnederland.org/en/amsterdam/events/pride-march-pride-park
END:VEVENT
END:VCALENDAR
