BEGIN:VCALENDAR
VERSION:2.0
PRODID:-//Volt Europa//Events//EN
CALSCALE:GREGORIAN
METHOD:PUBLISH
BEGIN:VEVENT
UID:presentatie-kandidatenlijst-gemeenteraadsverkiezingen-1763659800@voltne
 derland.org
DTSTAMP:20260423T212826Z
DTSTART;TZID=Europe/Amsterdam:20251120T183000
DTEND;TZID=Europe/Amsterdam:20251120T230000
SUMMARY:Presentation Candidates List Municipal Elections
DESCRIPTION:On March 18\, 2026\, the Municipal Council elections will be he
 ld in Amsterdam. On Thursday\, November 20\, Volt Amsterdam will present th
 e draft candidate list. In December\, all Amsterdam members can vote on the
  candidates. After that\, the list becomes final. Location: Café Belcampo\
 , De Hallen Program: 18:30 - Pre-program: Q&A with candidates (in English) 
 19:00 - Doors open for main program 19:30 - Presentation of candidate list 
 (in Dutch) 21:45 - Drinks Will you join us? Register here:  https://fo
LOCATION:Café Belcampo\, Hannie Dankbaarpassage 10
URL:https://voltnederland.org/en/amsterdam/events/presentatie-kandidatenlij
 st-gemeenteraadsverkiezingen
END:VEVENT
END:VCALENDAR
