BEGIN:VCALENDAR
VERSION:2.0
PRODID:-//Volt Europa//Events//EN
CALSCALE:GREGORIAN
METHOD:PUBLISH
BEGIN:VEVENT
UID:parks-march-1717318800@voltnederland.org
DTSTAMP:20260423T101919Z
DTSTART;TZID=Europe/Amsterdam:20240602T110000
DTEND;TZID=Europe/Amsterdam:20240602T170000
SUMMARY:Parks march for European elections (Campaign)
DESCRIPTION:On 2 June\, we will start in Oosterpark with croissants and cof
 fee\, and end in West with a BBQ. Throughout the day\, we will alternate fu
 n activities in parks with poster sticking\, (mailbox flyering)\, and creat
 ing visibility through the city. So be sure to join us whenever you have ti
 me at this purple wave through Amsterdam!
LOCATION:Amsterdam: Center\, East\, West and the Pijp
URL:https://voltnederland.org/en/amsterdam/events/parks-march
END:VEVENT
END:VCALENDAR
