BEGIN:VCALENDAR
VERSION:2.0
PRODID:-//Volt Europa//Events//EN
CALSCALE:GREGORIAN
METHOD:PUBLISH
BEGIN:VEVENT
UID:new-years-reception-campaign-kick-off-1769709600@voltnederland.org
DTSTAMP:20260423T211318Z
DTSTART;TZID=Europe/Amsterdam:20260129T190000
DTEND;TZID=Europe/Amsterdam:20260129T235900
SUMMARY:New Year’s Reception & Campaign Kick-off
DESCRIPTION:In 2026\, we continue to build your future! And it starts with 
 a bang! On Thursday evening\, 29 January\, we’ll raise a glass together a
 t the New Year’s reception at Radio Radio. During this evening\, we’ll 
 also officially kick off the campaign together for the municipal elections.
  Together\, we’ll set the course for a progressive Amsterdam where you ca
 n feel free and safe\, and where affordable housing is within reach. Make s
 ure to be there! Get your ticket here See you then!
LOCATION:Radio Radio\, Pazzanistraat 3\, 1014 DB Amsterdam
URL:https://voltnederland.org/en/amsterdam/events/new-years-reception-campa
 ign-kick-off
END:VEVENT
END:VCALENDAR
