BEGIN:VCALENDAR
VERSION:2.0
PRODID:-//Volt Europa//Events//EN
CALSCALE:GREGORIAN
METHOD:PUBLISH
BEGIN:VEVENT
UID:monthly-get-together-november-1731609000@voltnederland.org
DTSTAMP:20260423T102218Z
DTSTART;TZID=Europe/Amsterdam:20241114T193000
DTEND;TZID=Europe/Amsterdam:20241114T230000
SUMMARY:Monthly Get Together November
DESCRIPTION:Every month Volt Amsterdam organizes a drink where you can talk
  to others about Volt\, Amsterdam\, the world or about something (very) dif
 ferent that concerns you. Informal and cozy\, without obligations or expect
 ations. For members of Volt and for non-members/interested parties: everyon
 e is welcome! The next edition is on  Thursday 14 November from 19:30 . Wil
 l we see you? Do you have questions about the monthly drinks or other event
 s? Contact the Community Team of Volt Amsterdam at: community.ams
LOCATION:Café Lennep\, Jacob Van Lennepkade 334\, 1053 NJ Amsterdam
URL:https://voltnederland.org/en/amsterdam/events/monthly-get-together-nove
 mber
END:VEVENT
END:VCALENDAR
