BEGIN:VCALENDAR
VERSION:2.0
PRODID:-//Volt Europa//Events//EN
CALSCALE:GREGORIAN
METHOD:PUBLISH
BEGIN:VEVENT
UID:monthly-get-together-november-25-1728581400@voltnederland.org
DTSTAMP:20260423T142909Z
DTSTART;TZID=Europe/Amsterdam:20241010T193000
DTEND;TZID=Europe/Amsterdam:20241010T230000
SUMMARY:Monthly Get Together November | Theme: the Amsterdam food chain
DESCRIPTION:There are significant differences in Amsterdam when it comes to
  the accessibility\, availability\, and consumption of healthy and affordab
 le food. We also import a lot of food from outside the city\, while we coul
 d reduce those distances if we produced more locally. Moreover\, as a city\
 , we throw away far too much food. In short: time to get our teeth into Ams
 terdam's food supply chain!  Bite-sized chunks  The City of Amsterdam has d
 eveloped a  food strategy  and is collaborating with  FoodCLIC \, a 
LOCATION:Brouwerij Poesiat en Kater\, Polderweg 648
URL:https://voltnederland.org/en/amsterdam/events/monthly-get-together-nove
 mber-25
END:VEVENT
END:VCALENDAR
