BEGIN:VCALENDAR
VERSION:2.0
PRODID:-//Volt Europa//Events//EN
CALSCALE:GREGORIAN
METHOD:PUBLISH
BEGIN:VEVENT
UID:monthly-get-together-january-1736447400@voltnederland.org
DTSTAMP:20260423T144258Z
DTSTART;TZID=Europe/Amsterdam:20250109T193000
DTEND;TZID=Europe/Amsterdam:20250109T230000
SUMMARY:New Year's Get Together January
DESCRIPTION:Every month Volt Amsterdam organizes a drink where you can talk
  to others about Volt\, Amsterdam\, the world or about something (very) dif
 ferent that concerns you. Informal and cozy\, without obligations or expect
 ations. For members of Volt and for non-members/interested parties: everyon
 e is welcome! The next edition is on  Thursday 9 January from 19:30 . Will 
 we see you? Do you have questions about the monthly drinks or other events?
  Contact the Community Team of Volt Amsterdam at: community.amste
LOCATION:Caffee Oslo Beers\, Sloterkade 1a\, 1058 HD Amsterdam
URL:https://voltnederland.org/en/amsterdam/events/monthly-get-together-janu
 ary
END:VEVENT
END:VCALENDAR
