BEGIN:VCALENDAR
VERSION:2.0
PRODID:-//Volt Europa//Events//EN
CALSCALE:GREGORIAN
METHOD:PUBLISH
BEGIN:VEVENT
UID:monthly-get-together-february-1739469600@voltnederland.org
DTSTAMP:20260423T114048Z
DTSTART;TZID=Europe/Amsterdam:20250213T190000
DTEND;TZID=Europe/Amsterdam:20250213T230000
SUMMARY:Monthly Get Together February | Theme: German elections
DESCRIPTION:New: from now on\, the monthly Volt Amsterdam drink will always
  have a changing theme. This time it is the German elections of February 23
 . The perfect theme for the drink on February 13! From  19.30 to 20.30h  we
  will reflect on the elections in Germany with two speakers. We will do thi
 s in English. -  Derk Beemer \, active on behalf of Volt for months for the
 se elections\, shares the most recent developments and the strong sentiment
 s that play a role.  -  Maren Berkenheide \, on the electoral list
LOCATION:Brouwerij Poesiat & Kater\, Polderweg 648 (Oost)
URL:https://voltnederland.org/en/amsterdam/events/monthly-get-together-febr
 uary
END:VEVENT
END:VCALENDAR
