BEGIN:VCALENDAR
VERSION:2.0
PRODID:-//Volt Europa//Events//EN
CALSCALE:GREGORIAN
METHOD:PUBLISH
BEGIN:VEVENT
UID:monthly-drinks-may-1747328400@voltnederland.org
DTSTAMP:20260423T101920Z
DTSTART;TZID=Europe/Amsterdam:20250515T190000
DTEND;TZID=Europe/Amsterdam:20250515T230000
SUMMARY:Monthly drinks May + talking about basic income
DESCRIPTION:Every month Volt Amsterdam organizes a drink where you can talk
  to others about Volt\, Amsterdam\, the world or about something (very) dif
 ferent that concerns you. Informal and cozy\, without obligations or expect
 ations. For members of Volt and for non-members/interested parties: everyon
 e is welcome! The next edition is on  Thursday 15 May from 19:00 . This tim
 e at  Poesiat & Kater  in East. Will we see you too? In the evening we dive
  into the concept of  basic income  together. Heleen Tims and Mar
LOCATION:Poesiat & Kater\, Polderweg 648\, 1093 KP Amsterdam
URL:https://voltnederland.org/en/amsterdam/events/monthly-drinks-may
END:VEVENT
END:VCALENDAR
