BEGIN:VCALENDAR
VERSION:2.0
PRODID:-//Volt Europa//Events//EN
CALSCALE:GREGORIAN
METHOD:PUBLISH
BEGIN:VEVENT
UID:maandelijkse-borrel-ontmoet-de-amsterdamse-kandidaten-1756402200@voltne
 derland.org
DTSTAMP:20260423T114410Z
DTSTART;TZID=Europe/Amsterdam:20250828T193000
DTEND;TZID=Europe/Amsterdam:20250828T230000
SUMMARY:Maandelijkse Borrel : Ontmoet de Amsterdamse kandidaten
DESCRIPTION:On Thursday\, August 28th\, you have a unique opportunity to me
 et our Amsterdam candidates for the House of Representatives elections. Thi
 s informal event takes place at brewery Poesiat en Kater\, starting at 7:30
  PM. It's the perfect opportunity to ask them questions about their motivat
 ions and aspirations\, and to exchange thoughts about the upcoming election
 s in a relaxed atmosphere. Two days before the congress\, this is an excell
 ent moment to cast your vote well-prepared and get to know the cand
LOCATION:Poesiat & Kater\, Polderweg 648\, 1093KP Amsterdam
URL:https://voltnederland.org/en/amsterdam/events/maandelijkse-borrel-ontmo
 et-de-amsterdamse-kandidaten
END:VEVENT
END:VCALENDAR
