BEGIN:VCALENDAR
VERSION:2.0
PRODID:-//Volt Europa//Events//EN
CALSCALE:GREGORIAN
METHOD:PUBLISH
BEGIN:VEVENT
UID:laying-our-cards-on-the-table-1770575400@voltnederland.org
DTSTAMP:20260423T211829Z
DTSTART;TZID=Europe/Amsterdam:20260208T193000
DTEND;TZID=Europe/Amsterdam:20260208T210000
SUMMARY:'Open kaart'
DESCRIPTION:This event is entirely in Dutch. A separate event for an Englis
 h-speaking audience will be announced soon. A lot of what happens in politi
 cs often takes place behind closed doors\, but we lay all our cards on the 
 table and discuss what we’ve done in the municipal council over the past 
 four years. How do we make our decisions? Which vote was the most controver
 sial? And is local politics really as much of a snake pit as people often s
 ay? During this event\, you can ask us anything you’ve always want
LOCATION:Tolhuistuin\, Amsterdam
URL:https://voltnederland.org/en/amsterdam/events/laying-our-cards-on-the-t
 able
END:VEVENT
END:VCALENDAR
