BEGIN:VCALENDAR
VERSION:2.0
PRODID:-//Volt Europa//Events//EN
CALSCALE:GREGORIAN
METHOD:PUBLISH
BEGIN:VEVENT
UID:klimaatmars-31may-1717156800@voltnederland.org
DTSTAMP:20260423T142505Z
DTSTART;TZID=Europe/Amsterdam:20240531T140000
DTEND;TZID=Europe/Amsterdam:20240531T180000
SUMMARY:Climate march Amsterdam\, 31 May
DESCRIPTION:Drought\, heat\, and floods are killing people and causing chao
 s. But big companies? Those just keep going with their harmful projects. On
  31 May at 14:00\, we will transform Amsterdam's Zuidas into the epicentre 
 of change. Here\, everything is about profit\, with no regard for people\, 
 nature\, or climate. Come too! Do you dare? On 31 May\, Volt will also take
  to the streets to call attention to the rapidly changing climate!  
LOCATION:Zuidas\, Amsterdam
URL:https://voltnederland.org/en/amsterdam/events/klimaatmars-31may
END:VEVENT
END:VCALENDAR
