BEGIN:VCALENDAR
VERSION:2.0
PRODID:-//Volt Europa//Events//EN
CALSCALE:GREGORIAN
METHOD:PUBLISH
BEGIN:VEVENT
UID:general-assembly-volt-amsterdam-2025-1765107000@voltnederland.org
DTSTAMP:20260423T102051Z
DTSTART;TZID=Europe/Amsterdam:20251207T123000
DTEND;TZID=Europe/Amsterdam:20251207T180000
SUMMARY:General Assembly Volt Amsterdam
DESCRIPTION:During this general assembly\, we will vote on the election man
 ifesto and the candidate list for the municipal council elections in March 
 2026. The event is in Dutch Are you planning to come? Sign up here :  https
 ://forms.gle/Qi49CSfJcqDa4uMMA Agenda: 12:30 - 13:00 - Arrival 13:00 - 14:0
 0 - Presentation and voting candidate list 16:00 - 17:00 - Presentation ele
 ction program\, presentation and voting amendments and motions\, voting ele
 ction program 17:00 - 18:00 - Drinks
LOCATION:Restaurant Elixer
URL:https://voltnederland.org/en/amsterdam/events/general-assembly-volt-ams
 terdam-2025
END:VEVENT
END:VCALENDAR
