BEGIN:VCALENDAR
VERSION:2.0
PRODID:-//Volt Europa//Events//EN
CALSCALE:GREGORIAN
METHOD:PUBLISH
BEGIN:VEVENT
UID:ga-april-1745945100@voltnederland.org
DTSTAMP:20260423T101921Z
DTSTART;TZID=Europe/Amsterdam:20250429T184500
DTEND;TZID=Europe/Amsterdam:20250429T230000
SUMMARY:Amsterdamse Algemene Ledenvergadering (ALV)
DESCRIPTION:Kom dinsdag 29 april naar ons Amsterdamse algemene ledenvergade
 ring / General Assembly (GA). Met op het programma onder andere de verkiezi
 ng van de kandidatencommissie en een vooruitblik op de gemeenteraadsverkiez
 ingen van 2026. We sluiten af met een borrel. Bekijk hieronder de voorlopig
 e agenda. Laat ons weten of je erbij bent!  Programma 18.45 – 19.00	Inloo
 p 19.00 – 19.10	Opening 19.10 – 19.50	Kandidaten Commissie 19.50 – 20
 .00	Pauze 20.00 – 20.15	Update  Financie 20.15 – 20.55	Update Gementer
LOCATION:Café Belcampo\, Hannie Dankbaarpassage 10 (in Tramremise de Halle
 n)
URL:https://voltnederland.org/amsterdam/agenda/ga-april
END:VEVENT
END:VCALENDAR
