BEGIN:VCALENDAR
VERSION:2.0
PRODID:-//Volt Europa//Events//EN
CALSCALE:GREGORIAN
METHOD:PUBLISH
BEGIN:VEVENT
UID:flyering-4june-1717477200@voltnederland.org
DTSTAMP:20260423T144104Z
DTSTART;TZID=Europe/Amsterdam:20240604T070000
DTEND;TZID=Europe/Amsterdam:20240604T190000
SUMMARY:Flyering for the European elections (Campaign)
DESCRIPTION:Perhaps the most important thing to do to tell people our story
 ! Talk to people on the street\, or put your earbuds in and put our flyers 
 in all the mailboxes in your neighbourhood!
LOCATION:Busy locations in Amsterdam
URL:https://voltnederland.org/en/amsterdam/events/flyering-4june
END:VEVENT
END:VCALENDAR
