BEGIN:VCALENDAR
VERSION:2.0
PRODID:-//Volt Europa//Events//EN
CALSCALE:GREGORIAN
METHOD:PUBLISH
BEGIN:VEVENT
UID:flyering-20may-1716199200@voltnederland.org
DTSTAMP:20260423T113841Z
DTSTART;TZID=Europe/Amsterdam:20240520T120000
DTEND;TZID=Europe/Amsterdam:20240520T160000
SUMMARY:Flyering for the European elections (Campaign)
DESCRIPTION:More inf will follow a.s.a.p.
LOCATION:Vondelpark\, Amsterdam
URL:https://voltnederland.org/en/amsterdam/events/flyering-20may
END:VEVENT
END:VCALENDAR
