BEGIN:VCALENDAR
VERSION:2.0
PRODID:-//Volt Europa//Events//EN
CALSCALE:GREGORIAN
METHOD:PUBLISH
BEGIN:VEVENT
UID:flyering-19may-1716112800@voltnederland.org
DTSTAMP:20260424T025607Z
DTSTART;TZID=Europe/Amsterdam:20240519T120000
DTEND;TZID=Europe/Amsterdam:20240519T140000
SUMMARY:Flyering for the European elections (Campaign)
DESCRIPTION:More inf will follow a.s.a.p.
LOCATION:De Zon festival & Fete Du Champagne festival in Amsterdam
URL:https://voltnederland.org/en/amsterdam/events/flyering-19may
END:VEVENT
END:VCALENDAR
