BEGIN:VCALENDAR
VERSION:2.0
PRODID:-//Volt Europa//Events//EN
CALSCALE:GREGORIAN
METHOD:PUBLISH
BEGIN:VEVENT
UID:eu-election-night-1717695000@voltnederland.org
DTSTAMP:20260423T101946Z
DTSTART;TZID=Europe/Amsterdam:20240606T193000
DTEND;TZID=Europe/Amsterdam:20240606T235900
SUMMARY:EU Election night
DESCRIPTION:It is almost here! The clock is ticking down to the moment of t
 ruth: the European election night! We can hardly wait to share this excitin
 g evening with you and watch the first exit polls together! During the clim
 ax of our radically positive campaign\, we want nothing more than to wait f
 or the moment of truth with you\, our incredible volunteers and dedicated m
 embers\, and celebrate your commitment. Tickets are required for this event
 \, tickets are available now: https://www.eventbrite.nl/e/tickets-
LOCATION:De Weichert B\, Johan Huizingalaan 763a 1066 VH Amsterdam
URL:https://voltnederland.org/en/amsterdam/events/eu-election-night
END:VEVENT
END:VCALENDAR
