BEGIN:VCALENDAR
VERSION:2.0
PRODID:-//Volt Europa//Events//EN
CALSCALE:GREGORIAN
METHOD:PUBLISH
BEGIN:VEVENT
UID:election-night-1761762600@voltnederland.org
DTSTAMP:20260423T113925Z
DTSTART;TZID=Europe/Amsterdam:20251029T193000
DTEND;TZID=Europe/Amsterdam:20251029T235900
SUMMARY:Election Night
DESCRIPTION:Together we'll follow the election night after a fantastic camp
 aign! From 19:00 you are warmly welcome at the Q-factory in Amsterdam. The 
 location is within walking distance of Amsterdam Muiderpoort. The event las
 ts until 01:00 but afterwards you can of course still explore the Amsterdam
  nightlife with fellow Volters. You can get a ticket at the following link:
  https://www.eventbrite.nl/e/tk25-verkiezingsavond-tickets-1682767987349?af
 f=oddtdtcreator
LOCATION:Q-factory
URL:https://voltnederland.org/en/amsterdam/events/election-night
END:VEVENT
END:VCALENDAR
