BEGIN:VCALENDAR
VERSION:2.0
PRODID:-//Volt Europa//Events//EN
CALSCALE:GREGORIAN
METHOD:PUBLISH
BEGIN:VEVENT
UID:drinks-after-the-pride-walk-1753531200@voltnederland.org
DTSTAMP:20260423T102046Z
DTSTART;TZID=Europe/Amsterdam:20250726T140000
DTEND;TZID=Europe/Amsterdam:20250726T170000
SUMMARY:Drinks after the Pride March
DESCRIPTION:Have you just participated in the  Pride March to the Pride Par
 k \, the Vondelpark? Or did you not make it\, but do you still fancy a drin
 k? Member or not\, you are more than welcome to our drinks after the Pride 
 March in the trendy Mi-ami on the Jan van Galenstraat!  One of the active m
 embers of Volt Amsterdam is making a corner available for drinks\, at your 
 own expense. You are welcome from 14h!
LOCATION:Mi-ami\, Jan van Galenstraat 169
URL:https://voltnederland.org/en/amsterdam/events/drinks-after-the-pride-wa
 lk
END:VEVENT
END:VCALENDAR
