BEGIN:VCALENDAR
VERSION:2.0
PRODID:-//Volt Europa//Events//EN
CALSCALE:GREGORIAN
METHOD:PUBLISH
BEGIN:VEVENT
UID:cleanup-january-1736589600@voltnederland.org
DTSTAMP:20260423T101945Z
DTSTART;TZID=Europe/Amsterdam:20250111T110000
DTEND;TZID=Europe/Amsterdam:20250111T130000
SUMMARY:Join our Clean-Up! 🌍
DESCRIPTION:On 11 January\, Volt Amsterdam is organising another clean-up i
 n Amsterdam. We will stroll the streets with a group of enthusiastic Volter
 s to make it a bit cleaner. January marks the first of our clean-ups that w
 ill recur every quarter. When? Saturday 11 January 11:00 a.m. Together we m
 ake a difference for a sustainable future! Come along\, meet fellow Volters
 \, and help clean up the park. Everyone is welcome\, so feel free to bring 
 friends or family! We will provide trash grabbers and rubbish bags
LOCATION:Metrostation Ganzenhoef\, Zuidoost
URL:https://voltnederland.org/en/amsterdam/events/cleanup-january
END:VEVENT
END:VCALENDAR
