BEGIN:VCALENDAR
VERSION:2.0
PRODID:-//Volt Europa//Events//EN
CALSCALE:GREGORIAN
METHOD:PUBLISH
BEGIN:VEVENT
UID:clean-ups-with-house-of-representatives-candidates-join-1-1-1-1-1-1-176
 0785200@voltnederland.org
DTSTAMP:20260423T114550Z
DTSTART;TZID=Europe/Amsterdam:20251018T130000
DTEND;TZID=Europe/Amsterdam:20251018T150000
SUMMARY:Clean-Ups with House of Representatives candidates - join!
DESCRIPTION:Would you like to see Amsterdam a lot cleaner and tidier? Do yo
 u have a few hours to spare to contribute? And would you enjoy talking to p
 eople while cleaning up? Then join one of the Clean-Ups with House of Repre
 sentatives candidates!  Every weekend in September and October\, Volt Amste
 rdam is organizing a clean-up in a different neighborhood. One or more Amst
 erdam candidates will be there to join you on the streets. Armed with litte
 r pickers\, garbage bags\, Volt flyers to hand out\, and a healthy
LOCATION:IJhallen or Ten Katemarkt
URL:https://voltnederland.org/en/amsterdam/events/clean-ups-with-house-of-r
 epresentatives-candidates-join-1-1-1-1-1-1
END:VEVENT
END:VCALENDAR
