BEGIN:VCALENDAR
VERSION:2.0
PRODID:-//Volt Europa//Events//EN
CALSCALE:GREGORIAN
METHOD:PUBLISH
BEGIN:VEVENT
UID:borrel-in-het-park-1752771600@voltnederland.org
DTSTAMP:20260423T102047Z
DTSTART;TZID=Europe/Amsterdam:20250717T190000
DTEND;TZID=Europe/Amsterdam:20250717T230000
SUMMARY:Drinks in the park
DESCRIPTION:Every month\, Volt Amsterdam organizes a drink where you can ta
 lk to others about Volt\, Amsterdam\, the world or about something (complet
 ely) different that interests you. Informal and cozy\, without obligations 
 or expectations. For members of Volt and for non-members/interested parties
 : everyone is welcome!  The next edition is on  Thursday July 17 from 18:30
  . This edition is in the Oosterpark. We will provide some snacks and drink
 s. Will you bring a game or a ball? And something tasty to drink t
LOCATION:Oosterpark
URL:https://voltnederland.org/en/amsterdam/events/borrel-in-het-park
END:VEVENT
END:VCALENDAR
