BEGIN:VCALENDAR
VERSION:2.0
PRODID:-//Volt Europa//Events//EN
CALSCALE:GREGORIAN
METHOD:PUBLISH
BEGIN:VEVENT
UID:2nd-policy-challenge-1719144000@voltnederland.org
DTSTAMP:20260423T101922Z
DTSTART;TZID=Europe/Amsterdam:20240623T140000
DTEND;TZID=Europe/Amsterdam:20240623T161500
SUMMARY:2nd Volt Amsterdam Policy Challenge
DESCRIPTION:Fancy making your mark on Amsterdam's future? This is your mome
 nt! ⭐️ Come to our 2nd policy team meeting on  23 June  at House of the
  Quarter De Pijp\, 2e van der Helststraat 66. Walk-in from 13:45\, start at
  14:00\, followed by drinks at 16:15. This time we have something special i
 n store for you: the Policy Challenge! Within 2.5 hours\, we will go throug
 h the policy-making process together around current policy themes. Note:  t
 his event will be held in Dutch Policy Challenge: Work together in gro
LOCATION:Huis van de wijk De Pijp\, 2e van der Helststraat 66
URL:https://voltnederland.org/en/amsterdam/events/2nd-policy-challenge
END:VEVENT
END:VCALENDAR
