BEGIN:VCALENDAR
VERSION:2.0
PRODID:-//Volt Europa//Events//EN
CALSCALE:GREGORIAN
METHOD:PUBLISH
BEGIN:VEVENT
UID:2026-campaign-auction-1770921000@voltnederland.org
DTSTAMP:20260423T211156Z
DTSTART;TZID=Europe/Amsterdam:20260212T193000
DTEND;TZID=Europe/Amsterdam:20260212T230000
SUMMARY:Campaign Auction
DESCRIPTION:Are you ready for an evening full of fun and impact? Then come 
 to the first Fundraising event of the year! Whether you're coming to have d
 rinks with Volters and non-Volters or to participate in the auction to spon
 sor the campaign. This is what you can expect: Lots of fun Beautiful auctio
 n items An auctioneer who perfectly fits the Paleis Interesting speakers (m
 ore TBA) A free drink and snack A selection of the auction items: A dinner 
 show at Paleis van de Weemoed for two people Guided tour throu
LOCATION:Paleis van de Weemoed\, Oudezijds Voorburgwal 15\, 1012 EH Amsterd
 am
URL:https://voltnederland.org/en/amsterdam/events/2026-campaign-auction
END:VEVENT
END:VCALENDAR
