BEGIN:VCALENDAR
VERSION:2.0
PRODID:-//Volt Europa//Events//EN
CALSCALE:GREGORIAN
METHOD:PUBLISH
BEGIN:VEVENT
UID:december-2025-1766257200@voltnederland.org
DTSTAMP:20260423T061024Z
DTSTART;TZID=Europe/Amsterdam:20251220T200000
DTEND;TZID=Europe/Amsterdam:20251220T235900
SUMMARY:Kerstborrel met FR\, OV en GR
DESCRIPTION:Om samen het jaar vol campagne af te sluiten vinden we het leuk
  om met elkaar te proosten. Op onze ledengroei afgelopen jaar. Op alle inze
 t voor én tijdens de campagne(s). Op pósitieve\, langetermijn politiek! O
 p jou! Kom je ook proosten samen met Volters uit Overijssel en Friesland?
LOCATION:Meppel - Stadscafé Oasis
URL:https://voltnederland.org/drenthe/agenda/december-2025
END:VEVENT
END:VCALENDAR
