BEGIN:VCALENDAR
VERSION:2.0
PRODID:-//Volt Europa//Events//EN
CALSCALE:GREGORIAN
METHOD:PUBLISH
BEGIN:VEVENT
UID:bezoek-aan-europarlement-straatsburg-1779098400@voltnederland.org
DTSTAMP:20260423T061449Z
DTSTART;TZID=Europe/Amsterdam:20260518T120000
DTEND;TZID=Europe/Amsterdam:20260521T120000
SUMMARY:Bezoek aan Europarlement Straatsburg!
DESCRIPTION:Midweekje Straatsburg met bezoek aan Europees Parlement en Meet
  & Greet met onze eigen europarlementariërs. We gaan met een groepje mense
 n uit Drenthe en andere afdelingen een midweekje naar Straatsburg! We loger
 en op   Camping Les Bouleaux  in eigen tent\, caravan of camper of in éé
 n of meerdere huuraccommodaties. We mikken op een redelijk kleine groep: ro
 nd de 20 deelnemers. We brengen een bezoek aan het Europarlement en ontmoet
 en daar onze Europarlementariërs We hebben één dag vrij te besteden
LOCATION:Straatsburg / Camping Les Bouleaux
URL:https://voltnederland.org/drenthe/agenda/bezoek-aan-europarlement-straa
 tsburg
END:VEVENT
END:VCALENDAR
