BEGIN:VCALENDAR
VERSION:2.0
PRODID:-//Volt Europa//Events//EN
CALSCALE:GREGORIAN
METHOD:PUBLISH
BEGIN:VEVENT
UID:assen-community-event-1769193000@voltnederland.org
DTSTAMP:20260423T211012Z
DTSTART;TZID=Europe/Amsterdam:20260123T193000
DTEND;TZID=Europe/Amsterdam:20260123T213000
SUMMARY:Assen Community Event
DESCRIPTION:Goede voornemens voor 2026? Kom eens langs bij  Volt in Assen !
  Er is geen inhoudelijk programma\, maar wél de gelegenheid om in een onts
 pannen sfeer een drankje te doen (op eigen kosten). Een mooie kans om ander
 e Volters en Volt-geïnteresseerden uit Assen en omgeving te ontmoeten. Het
  plan is om dit  elke vierde vrijdag van de maand vanaf 19:30  te organiser
 en. Aanmelden is niet verplicht\, maar wordt wel gewaardeerd via mail naar 
 auke.vanheel@volteuropa.org
LOCATION:Grandcafé Zusjes de Boer Markt 13 9401GT Assen
URL:https://voltnederland.org/drenthe/agenda/assen-community-event
END:VEVENT
END:VCALENDAR
