BEGIN:VCALENDAR
VERSION:2.0
PRODID:-//Volt Europa//Events//EN
CALSCALE:GREGORIAN
METHOD:PUBLISH
BEGIN:VEVENT
UID:waalwijk-inloopavond-1716919200@voltnederland.org
DTSTAMP:20260423T101946Z
DTSTART;TZID=Europe/Amsterdam:20240528T200000
DTEND;TZID=Europe/Amsterdam:20240528T220000
SUMMARY:Waalwijk - Inloopavond
DESCRIPTION:Het enthousiasme voor Volt in Brabant groeit nog altijd. Daarom
  is het belangrijk om ook buiten de grotere steden leden en geïnteresseerd
 en kennis te laten maken met de partij. Op 28 mei is de eerste Volt Inloopa
 vond in Waalwijk. Het idee achter de avond is dat leden en niet-leden vrijb
 lijvend kunnen sparren over politiek en Volt. Er kan tijdens de avond onder
  meer worden ingegaan op de uitgangspunten en organisatie van Volt\, over d
 e EU en de Europese Verkiezingen. De meet-up start om 20 uur in 
LOCATION:Waalwijk\, BaLaDe 1
URL:https://voltnederland.org/brabant/agenda/waalwijk-inloopavond
END:VEVENT
END:VCALENDAR
