BEGIN:VCALENDAR
VERSION:2.0
PRODID:-//Volt Europa//Events//EN
CALSCALE:GREGORIAN
METHOD:PUBLISH
BEGIN:VEVENT
UID:voorjaarsborrel-fractie-den-bosch-1743012000@voltnederland.org
DTSTAMP:20260423T114226Z
DTSTART;TZID=Europe/Amsterdam:20250326T190000
DTEND;TZID=Europe/Amsterdam:20250326T220000
SUMMARY:Voorjaarsborrel fractie Den Bosch
DESCRIPTION:Dag Volters van Noordoost Brabant! Zin in een gezellige avond m
 et de fractie van Volt Den Bosch? Kom dan op woensdag 26 maart naar onze fr
 actieborrel in Perron 3 in Rosmalen! We willen je graag de kans geven om on
 ze fractieleden beter te leren kennen en te horen over hun ervaringen. Gedu
 rende de avond zullen ze kort een praatje houden\, en er is volop gelegenhe
 id om met ze te babbelen. Neem gerust een introducé (of een partner) mee! 
 En het beste van alles: de eerste drankjes zijn gratis! Of je nu
LOCATION:Perron 3\, Rosmalen
URL:https://voltnederland.org/agenda/voorjaarsborrel-fractie-den-bosch
END:VEVENT
END:VCALENDAR
