BEGIN:VCALENDAR
VERSION:2.0
PRODID:-//Volt Europa//Events//EN
CALSCALE:GREGORIAN
METHOD:PUBLISH
BEGIN:VEVENT
UID:voltenne-bijeenkomst-thema-onderwijs-1729185300@voltnederland.org
DTSTAMP:20260423T114410Z
DTSTART;TZID=Europe/Amsterdam:20241017T191500
DTEND;TZID=Europe/Amsterdam:20241017T220000
SUMMARY:Voltenne bijeenkomst. Thema: Onderwijs
DESCRIPTION:ONDERWIJS\, en dan vooral goed onderwijs is één van de belang
 rijkste bouwstenen van onze maatschappij. Dat vinden we allemaal...toch? Ma
 ar wat is goed onderwijs? Is de huidige staat van het onderwijs in Nederlan
 d goed te noemen? Krijgt iedereen gelijke kansen? Velen vinden van niet…m
 aar wat dan? Heeft Volt dan de oplossing in haar programma staan? Hoe denke
 n de mensen in het onderwijsveld er zelf over? Dat en nog veel meer hopen w
 e deze avond te weten te komen. Aanvang: 19.30u. Zaal open 19.15u.
LOCATION:De Knillispoort\, Korte Waterstraat 15\, 5211 NR ’s-Hertogenbosc
 h
URL:https://voltnederland.org/agenda/voltenne-bijeenkomst-thema-onderwijs
END:VEVENT
END:VCALENDAR
