BEGIN:VCALENDAR
VERSION:2.0
PRODID:-//Volt Europa//Events//EN
CALSCALE:GREGORIAN
METHOD:PUBLISH
BEGIN:VEVENT
UID:volt-violet-trotsborrel-maart-1742497200@voltnederland.org
DTSTAMP:20260423T102104Z
DTSTART;TZID=Europe/Amsterdam:20250320T200000
DTEND;TZID=Europe/Amsterdam:20250320T230000
SUMMARY:Volt Violet Trotsborrel Maart
DESCRIPTION:Hoi iedereen\, 20 maart is het weer zover: Volt Violet\, de jon
 gerencommunity van Volt\, organiseert ook deze maand weer een Trotsborrel\,
  dit keer in lichtstad Eindhoven! Iedere Volter - en introducé(e) - die zi
 ch jong voelt is welkom\, dus kom vooral naar dit gezellige evenement! En z
 oals altijd is het eerste drankje gratis. 🗓️ 20 maart 🕗 20.00 uur 
 Brewpub Van Moll\, Keizersgracht 16A\, Eindhoven Hopelijk zien we jullie
  daar! 💜 Ole Moors\, Taskforcelid Volt Violet Nederland
LOCATION:Van Moll\, Keizersgracht 16A\, 5611 GD Eindhoven
URL:https://voltnederland.org/agenda/volt-violet-trotsborrel-maart
END:VEVENT
END:VCALENDAR
