BEGIN:VCALENDAR
VERSION:2.0
PRODID:-//Volt Europa//Events//EN
CALSCALE:GREGORIAN
METHOD:PUBLISH
BEGIN:VEVENT
UID:volt-tilburg-midden-brabant-borrel-1776880800@voltnederland.org
DTSTAMP:20260423T023303Z
DTSTART;TZID=Europe/Amsterdam:20260422T200000
DTEND;TZID=Europe/Amsterdam:20260422T230000
SUMMARY:Volt Tilburg | Midden-Brabant Borrel
DESCRIPTION:Een maand na de gemeenteraadsverkiezingen hebben we onze blik w
 eer vooruit. Want Volt heeft gewoonweg toekomst. Iedere vierde woensdag van
  de maand hebben we een borrel\, activiteit of event. Deze eerste bijeenkom
 st is bedoeld om lekker bij te praten onder het genot van een drankje. Iede
 reen is welkom\, inclusief niet Volt-leden. Laten we er een gezellige avond
  van maken!
LOCATION:Goesting\,  Heuvelstraat 139a\, 5038 AD Tilburg
URL:https://voltnederland.org/brabant/agenda/volt-tilburg-midden-brabant-bo
 rrel
END:VEVENT
END:VCALENDAR
