BEGIN:VCALENDAR
VERSION:2.0
PRODID:-//Volt Europa//Events//EN
CALSCALE:GREGORIAN
METHOD:PUBLISH
BEGIN:VEVENT
UID:volt-den-bosch-verkiezingsavond-grv-2026-1773864000@voltnederland.org
DTSTAMP:20260425T172807Z
DTSTART;TZID=Europe/Amsterdam:20260318T210000
DTEND;TZID=Europe/Amsterdam:20260318T235900
SUMMARY:Volt Den Bosch: Verkiezingsavond GRV 2026
DESCRIPTION:Op verkiezingsavond komen we in Den Bosch samen bij Zoetelief o
 m met leden\, vrijwilligers en kandidaten de uitslag te volgen. Na weken ca
 mpagnevoeren is dit hét moment om elkaar te treffen\, verhalen uit te wiss
 elen en samen toe te leven naar de spannende uitslag. We zorgen voor een fi
 jne plek om samen te kijken: er is een livestream van DTV aanwezig\, zodat 
 we live de ontwikkelingen kunnen volgen en direct mee kunnen praten over wa
 t er gebeurt. Of je nu hebt geflyerd\, gesprekken hebt gevoerd\, pos
LOCATION:Zoetelief (Korte Putstraat 10)
URL:https://voltnederland.org/brabant/agenda/volt-den-bosch-verkiezingsavon
 d-grv-2026
END:VEVENT
END:VCALENDAR
