BEGIN:VCALENDAR
VERSION:2.0
PRODID:-//Volt Europa//Events//EN
CALSCALE:GREGORIAN
METHOD:PUBLISH
BEGIN:VEVENT
UID:volt-den-bosch-schoonmaakactie-keukentafelgesprekken-1772267400@voltned
 erland.org
DTSTAMP:20260425T024651Z
DTSTART;TZID=Europe/Amsterdam:20260228T093000
DTEND;TZID=Europe/Amsterdam:20260228T150000
SUMMARY:Volt Den Bosch Schoonmaakactie & keukentafelgesprekken
DESCRIPTION:Op zaterdag 28 februari gaan we in Den Bosch laten zien waar Vo
 lt voor staat: mouwen opstropen voor de buurt én het gesprek aangaan. We c
 ombineren een grote schoonmaakactie met keukentafelgesprekken. Met prikkers
  en hesjes van de Wijkhelden maken we de straten schoon. Ondertussen staat 
 onze mobiele keukentafel klaar (met verse koffie op zonne-energie!) om met 
 voorbijgangers te praten over wat er écht speelt in de wijk. Kies jouw mom
 ent! We snappen dat je zaterdag kostbaar is. Daarom hebben we de
LOCATION:De Groote Wielen
URL:https://voltnederland.org/brabant/agenda/volt-den-bosch-schoonmaakactie
 -keukentafelgesprekken
END:VEVENT
END:VCALENDAR
