BEGIN:VCALENDAR
VERSION:2.0
PRODID:-//Volt Europa//Events//EN
CALSCALE:GREGORIAN
METHOD:PUBLISH
BEGIN:VEVENT
UID:volt-den-bosch-pubquiz-1772301600@voltnederland.org
DTSTAMP:20260423T101947Z
DTSTART;TZID=Europe/Amsterdam:20260228T190000
DTEND;TZID=Europe/Amsterdam:20260228T220000
SUMMARY:Volt Den Bosch Pubquiz
DESCRIPTION:Zin in een avond vol vragen\, borrels en Volt-energie? Na de ta
 lkshow is het tijd voor wat ontspanning (en een gezonde dosis competitie)! 
 Op zaterdag 28 februari organiseren we de enige echte strijd ⚔️ Violet 
 vs Volt leden pubquiz in de historische Knillispoort. 🍻🧠 Breng jij jo
 uw team tot de overwinning?  Test je kennis over Europa van verleden en hed
 en en de meest nutteloze (maar leuke) feitjes door de verschillende tijden 
 heen. Of je nu een wandelende encyclopedie bent of vooral komt voor de Br
LOCATION:Knillispoort\, Korte Waterstraat 15
URL:https://voltnederland.org/brabant/agenda/volt-den-bosch-pubquiz
END:VEVENT
END:VCALENDAR
