BEGIN:VCALENDAR
VERSION:2.0
PRODID:-//Volt Europa//Events//EN
CALSCALE:GREGORIAN
METHOD:PUBLISH
BEGIN:VEVENT
UID:volt-den-bosch-presenteert-de-grv26-1763663400@voltnederland.org
DTSTAMP:20260423T211053Z
DTSTART;TZID=Europe/Amsterdam:20251120T193000
DTEND;TZID=Europe/Amsterdam:20251120T220000
SUMMARY:Volt Den Bosch presenteert: De GRV26!
DESCRIPTION:Volt Den Bosch presenteert: De GRV26! Datum: Donderdag 20 novem
 ber 2025 Tijd: Inloop vanaf 19:00 uur — start om 19:30 uur Locatie: Het M
 ariapaviljoen Tijdens deze interactieve Voltenne avond duiken we samen in h
 et concept-verkiezingsprogramma van Volt Den Bosch voor de Gemeenteraadsver
 kiezingen 2026 (GRV26) én maken we kennis met onze kandidaat-raadsleden. H
 et concept programma zal vanaf 8 november toegankelijk zijn voor leden. Op 
 het Volt-congres van 13 december worden zowel het verkiezingsprog
LOCATION:Het Mariapaviljoen Burgemeester Loeffplein 70 5211LX s'-Hertogenbo
 sch
URL:https://voltnederland.org/brabant/agenda/volt-den-bosch-presenteert-de-
 grv26
END:VEVENT
END:VCALENDAR
