BEGIN:VCALENDAR
VERSION:2.0
PRODID:-//Volt Europa//Events//EN
CALSCALE:GREGORIAN
METHOD:PUBLISH
BEGIN:VEVENT
UID:vip-sessies-vrouwen-in-politiek-1738348200@voltnederland.org
DTSTAMP:20260423T114410Z
DTSTART;TZID=Europe/Amsterdam:20250131T193000
DTEND;TZID=Europe/Amsterdam:20250131T213000
SUMMARY:VIP - sessies (Vrouwen in Politiek)
DESCRIPTION:Uitnodiging aan alle vrouwen! Meer vrouwen in de politiek maken
  het verschil. Zowel in de plaatselijke\, provinciale\, landelijke en Europ
 ese politiek is er bij lange na geen evenwicht in de verhouding mannen-vrou
 wen. Volt is daarop een positieve uitzondering. Wij staan voor pariteit! In
  2026 zijn er weer gemeenteraadsverkiezingen. Heb je er weleens over nageda
 cht om politiek actief te worden? Lid te worden van een politieke partij en
  mee te denken over het beleid van je eigen gemeente? Volt organ
LOCATION:Raadzaal gemeente Eindhoven\, Stadhuisplein 1
URL:https://voltnederland.org/agenda/vip-sessies-vrouwen-in-politiek
END:VEVENT
END:VCALENDAR
